BEGIN:VCALENDAR
VERSION:2.0
PRODID:-//Friends of Reader Rock Garden Society - ECPv6.15.20//NONSGML v1.0//EN
CALSCALE:GREGORIAN
METHOD:PUBLISH
X-WR-CALNAME:Friends of Reader Rock Garden Society
X-ORIGINAL-URL:https://www.readerrock.com
X-WR-CALDESC:Events for Friends of Reader Rock Garden Society
REFRESH-INTERVAL;VALUE=DURATION:PT1H
X-Robots-Tag:noindex
X-PUBLISHED-TTL:PT1H
BEGIN:VTIMEZONE
TZID:America/Edmonton
BEGIN:DAYLIGHT
TZOFFSETFROM:-0700
TZOFFSETTO:-0600
TZNAME:MDT
DTSTART:20250309T090000
END:DAYLIGHT
BEGIN:STANDARD
TZOFFSETFROM:-0600
TZOFFSETTO:-0700
TZNAME:MST
DTSTART:20251102T080000
END:STANDARD
BEGIN:DAYLIGHT
TZOFFSETFROM:-0700
TZOFFSETTO:-0600
TZNAME:MDT
DTSTART:20260308T090000
END:DAYLIGHT
BEGIN:STANDARD
TZOFFSETFROM:-0600
TZOFFSETTO:-0700
TZNAME:MST
DTSTART:20261101T080000
END:STANDARD
BEGIN:DAYLIGHT
TZOFFSETFROM:-0700
TZOFFSETTO:-0600
TZNAME:MDT
DTSTART:20270314T090000
END:DAYLIGHT
BEGIN:STANDARD
TZOFFSETFROM:-0600
TZOFFSETTO:-0700
TZNAME:MST
DTSTART:20271107T080000
END:STANDARD
END:VTIMEZONE
BEGIN:VEVENT
DTSTART;TZID=America/Edmonton:20260502T100000
DTEND;TZID=America/Edmonton:20260502T120000
DTSTAMP:20260423T101253
CREATED:20260302T203934Z
LAST-MODIFIED:20260302T205021Z
UID:16784-1777716000-1777723200@www.readerrock.com
SUMMARY:FoRRGS Public Annual General Meeting
DESCRIPTION:Time:  10:00 AM to Noon                                                                               \nLocation:  Reader’s House\, Lower “Potato” Meeting Room
URL:https://www.readerrock.com/events/forrgs-public-annual-general-meeting/
LOCATION:Reader Rock Garden\, 325 25 Ave SE\, Calgary\, AB\, Canada
CATEGORIES:Annual General Meeting
ORGANIZER;CN="FoRRGS":MAILTO:info@readerrock.com
END:VEVENT
END:VCALENDAR