BEGIN:VCALENDAR
VERSION:2.0
PRODID:-//Friends of Reader Rock Garden Society - ECPv6.15.20//NONSGML v1.0//EN
CALSCALE:GREGORIAN
METHOD:PUBLISH
X-ORIGINAL-URL:https://www.readerrock.com
X-WR-CALDESC:Events for Friends of Reader Rock Garden Society
REFRESH-INTERVAL;VALUE=DURATION:PT1H
X-Robots-Tag:noindex
X-PUBLISHED-TTL:PT1H
BEGIN:VTIMEZONE
TZID:America/Edmonton
BEGIN:DAYLIGHT
TZOFFSETFROM:-0700
TZOFFSETTO:-0600
TZNAME:MDT
DTSTART:20250309T090000
END:DAYLIGHT
BEGIN:STANDARD
TZOFFSETFROM:-0600
TZOFFSETTO:-0700
TZNAME:MST
DTSTART:20251102T080000
END:STANDARD
BEGIN:DAYLIGHT
TZOFFSETFROM:-0700
TZOFFSETTO:-0600
TZNAME:MDT
DTSTART:20260308T090000
END:DAYLIGHT
BEGIN:STANDARD
TZOFFSETFROM:-0600
TZOFFSETTO:-0700
TZNAME:MST
DTSTART:20261101T080000
END:STANDARD
BEGIN:DAYLIGHT
TZOFFSETFROM:-0700
TZOFFSETTO:-0600
TZNAME:MDT
DTSTART:20270314T090000
END:DAYLIGHT
BEGIN:STANDARD
TZOFFSETFROM:-0600
TZOFFSETTO:-0700
TZNAME:MST
DTSTART:20271107T080000
END:STANDARD
END:VTIMEZONE
BEGIN:VEVENT
DTSTART;TZID=America/Edmonton:20260321T100000
DTEND;TZID=America/Edmonton:20260321T150000
DTSTAMP:20260423T131749
CREATED:20260226T221524Z
LAST-MODIFIED:20260302T212815Z
UID:16734-1774087200-1774105200@www.readerrock.com
SUMMARY:2026 Calgary Seedy Saturday
DESCRIPTION:  \nCalgary Seedy Saturday is part of the worldwide Seedy Saturday/Sunday events that celebrate open-pollinated seeds. In Calgary\, the event is coordinated with the support of the Bowness Community Association. FoRRGS is a proud annual participant of Calgary Seedy Saturday.
URL:https://www.readerrock.com/events/calgary-seedy-saturday/
LOCATION:Bowness Community Association\, 7904 43 Avenue NW\, Calgary\, Alberta\, T3B 4P9\, Canada
CATEGORIES:Friends of FoRRGS,Special Events
ORGANIZER;CN="Calgary Seedy Saturday":MAILTO:calgaryseedysaturday@gmail.com
END:VEVENT
END:VCALENDAR