BEGIN:VCALENDAR
VERSION:2.0
PRODID:-//Friends of Reader Rock Garden Society - ECPv6.15.20//NONSGML v1.0//EN
CALSCALE:GREGORIAN
METHOD:PUBLISH
X-ORIGINAL-URL:https://www.readerrock.com
X-WR-CALDESC:Events for Friends of Reader Rock Garden Society
REFRESH-INTERVAL;VALUE=DURATION:PT1H
X-Robots-Tag:noindex
X-PUBLISHED-TTL:PT1H
BEGIN:VTIMEZONE
TZID:America/Edmonton
BEGIN:DAYLIGHT
TZOFFSETFROM:-0700
TZOFFSETTO:-0600
TZNAME:MDT
DTSTART:20250309T090000
END:DAYLIGHT
BEGIN:STANDARD
TZOFFSETFROM:-0600
TZOFFSETTO:-0700
TZNAME:MST
DTSTART:20251102T080000
END:STANDARD
BEGIN:DAYLIGHT
TZOFFSETFROM:-0700
TZOFFSETTO:-0600
TZNAME:MDT
DTSTART:20260308T090000
END:DAYLIGHT
BEGIN:STANDARD
TZOFFSETFROM:-0600
TZOFFSETTO:-0700
TZNAME:MST
DTSTART:20261101T080000
END:STANDARD
BEGIN:DAYLIGHT
TZOFFSETFROM:-0700
TZOFFSETTO:-0600
TZNAME:MDT
DTSTART:20270314T090000
END:DAYLIGHT
BEGIN:STANDARD
TZOFFSETFROM:-0600
TZOFFSETTO:-0700
TZNAME:MST
DTSTART:20271107T080000
END:STANDARD
END:VTIMEZONE
BEGIN:VEVENT
DTSTART;TZID=America/Edmonton:20260606T120000
DTEND;TZID=America/Edmonton:20260606T150000
DTSTAMP:20260423T144826
CREATED:20260302T204803Z
LAST-MODIFIED:20260302T204803Z
UID:16793-1780747200-1780758000@www.readerrock.com
SUMMARY:2026 "Members-Only" Plant Sale & Stroll
DESCRIPTION:Join us on Saturday\, June 6th at our Plant Sale!    We’re sharing our unique plants with our members for low prices.  Take a bit of Reader Rock Garden back to your home. \nMark Your Calendars!!
URL:https://www.readerrock.com/events/2026-members-only-plant-sale-stroll/
LOCATION:Reader Rock Garden\, 325 25 Ave SE\, Calgary\, AB\, Canada
CATEGORIES:Friends of FoRRGS,Special Events
ORGANIZER;CN="FoRRGS":MAILTO:info@readerrock.com
END:VEVENT
END:VCALENDAR