BEGIN:VCALENDAR
VERSION:2.0
PRODID:-//Friends of Reader Rock Garden Society - ECPv6.15.20//NONSGML v1.0//EN
CALSCALE:GREGORIAN
METHOD:PUBLISH
X-WR-CALNAME:Friends of Reader Rock Garden Society
X-ORIGINAL-URL:https://www.readerrock.com
X-WR-CALDESC:Events for Friends of Reader Rock Garden Society
REFRESH-INTERVAL;VALUE=DURATION:PT1H
X-Robots-Tag:noindex
X-PUBLISHED-TTL:PT1H
BEGIN:VTIMEZONE
TZID:America/Edmonton
BEGIN:DAYLIGHT
TZOFFSETFROM:-0700
TZOFFSETTO:-0600
TZNAME:MDT
DTSTART:20250309T090000
END:DAYLIGHT
BEGIN:STANDARD
TZOFFSETFROM:-0600
TZOFFSETTO:-0700
TZNAME:MST
DTSTART:20251102T080000
END:STANDARD
BEGIN:DAYLIGHT
TZOFFSETFROM:-0700
TZOFFSETTO:-0600
TZNAME:MDT
DTSTART:20260308T090000
END:DAYLIGHT
BEGIN:STANDARD
TZOFFSETFROM:-0600
TZOFFSETTO:-0700
TZNAME:MST
DTSTART:20261101T080000
END:STANDARD
BEGIN:DAYLIGHT
TZOFFSETFROM:-0700
TZOFFSETTO:-0600
TZNAME:MDT
DTSTART:20270314T090000
END:DAYLIGHT
BEGIN:STANDARD
TZOFFSETFROM:-0600
TZOFFSETTO:-0700
TZNAME:MST
DTSTART:20271107T080000
END:STANDARD
END:VTIMEZONE
BEGIN:VEVENT
DTSTART;VALUE=DATE:20260724
DTEND;VALUE=DATE:20260804
DTSTAMP:20260423T141242
CREATED:20260302T212033Z
LAST-MODIFIED:20260302T212033Z
UID:16806-1784851200-1785801599@www.readerrock.com
SUMMARY:FoRRGS Participatation in Historic Calgary Week
DESCRIPTION:The 11-day history festival is back for the 36th year. Plan on taking in several of the 75-plus events\, comprised of walks\, tours and presentations – something for everyone. \nThe theme this year\, Chinook Country: Influences and Icons\, will explore the places\, events and personalities that have been important in the growth and successes in our society. In addition to events in Calgary\, you can learn of the interesting past of places such as High River\, Okotoks\, Chestermere\, Cochrane and more. \nAgain this year\, there will be an exhibition of modern photographs of iconic historic places. This year the exhibition will be in the Central Library. \nFoRRGS is a proud annual participant of Historic Calgary Week.
URL:https://www.readerrock.com/events/forrgs-participatation-in-historic-calgary-week/
LOCATION:AB
CATEGORIES:Friends of FoRRGS,Learning Opportunities,Special Events
END:VEVENT
BEGIN:VEVENT
DTSTART;TZID=America/Edmonton:20260926T113000
DTEND;TZID=America/Edmonton:20260926T150000
DTSTAMP:20260423T141242
CREATED:20260302T213752Z
LAST-MODIFIED:20260302T213848Z
UID:16812-1790422200-1790434800@www.readerrock.com
SUMMARY:2026 FoRRGS Volunteer Appreciation Event
DESCRIPTION:Take a bow FoRRGS volunteers for ALL your dedication and amazing efforts this year at Reader Rock Garden.  We’ll meet rain or shine on the Main Lawn adjacent to the House if weather permits\, OR \, in the Potato Room in the basement if we need shelter.  Either way\, we’ll see you on Sunday\, Sept 21\, at 11:30 AM – 3:00 PM.  More details to follow closer to event date; save the date!
URL:https://www.readerrock.com/events/september-26-2026-saturday-forrgs-volunteer-appreciation-event/
LOCATION:Reader Rock Garden\, 325 25 Ave SE\, Calgary\, AB\, Canada
CATEGORIES:Friends of FoRRGS,Special Events
ORGANIZER;CN="FoRRGS":MAILTO:info@readerrock.com
END:VEVENT
END:VCALENDAR